BEGIN:VCALENDAR
VERSION:2.0
PRODID:-//LaBGarrett Genealogy - ECPv6.15.20//NONSGML v1.0//EN
CALSCALE:GREGORIAN
METHOD:PUBLISH
X-ORIGINAL-URL:https://www.labgarrettgenealogy.com
X-WR-CALDESC:Events for LaBGarrett Genealogy
REFRESH-INTERVAL;VALUE=DURATION:PT1H
X-Robots-Tag:noindex
X-PUBLISHED-TTL:PT1H
BEGIN:VTIMEZONE
TZID:America/New_York
BEGIN:DAYLIGHT
TZOFFSETFROM:-0500
TZOFFSETTO:-0400
TZNAME:EDT
DTSTART:20190310T070000
END:DAYLIGHT
BEGIN:STANDARD
TZOFFSETFROM:-0400
TZOFFSETTO:-0500
TZNAME:EST
DTSTART:20191103T060000
END:STANDARD
BEGIN:DAYLIGHT
TZOFFSETFROM:-0500
TZOFFSETTO:-0400
TZNAME:EDT
DTSTART:20200308T070000
END:DAYLIGHT
BEGIN:STANDARD
TZOFFSETFROM:-0400
TZOFFSETTO:-0500
TZNAME:EST
DTSTART:20201101T060000
END:STANDARD
BEGIN:DAYLIGHT
TZOFFSETFROM:-0500
TZOFFSETTO:-0400
TZNAME:EDT
DTSTART:20210314T070000
END:DAYLIGHT
BEGIN:STANDARD
TZOFFSETFROM:-0400
TZOFFSETTO:-0500
TZNAME:EST
DTSTART:20211107T060000
END:STANDARD
BEGIN:DAYLIGHT
TZOFFSETFROM:-0500
TZOFFSETTO:-0400
TZNAME:EDT
DTSTART:20220313T070000
END:DAYLIGHT
BEGIN:STANDARD
TZOFFSETFROM:-0400
TZOFFSETTO:-0500
TZNAME:EST
DTSTART:20221106T060000
END:STANDARD
BEGIN:DAYLIGHT
TZOFFSETFROM:-0500
TZOFFSETTO:-0400
TZNAME:EDT
DTSTART:20230312T070000
END:DAYLIGHT
BEGIN:STANDARD
TZOFFSETFROM:-0400
TZOFFSETTO:-0500
TZNAME:EST
DTSTART:20231105T060000
END:STANDARD
BEGIN:DAYLIGHT
TZOFFSETFROM:-0500
TZOFFSETTO:-0400
TZNAME:EDT
DTSTART:20240310T070000
END:DAYLIGHT
BEGIN:STANDARD
TZOFFSETFROM:-0400
TZOFFSETTO:-0500
TZNAME:EST
DTSTART:20241103T060000
END:STANDARD
BEGIN:DAYLIGHT
TZOFFSETFROM:-0500
TZOFFSETTO:-0400
TZNAME:EDT
DTSTART:20250309T070000
END:DAYLIGHT
BEGIN:STANDARD
TZOFFSETFROM:-0400
TZOFFSETTO:-0500
TZNAME:EST
DTSTART:20251102T060000
END:STANDARD
END:VTIMEZONE
BEGIN:VTIMEZONE
TZID:America/Chicago
BEGIN:DAYLIGHT
TZOFFSETFROM:-0600
TZOFFSETTO:-0500
TZNAME:CDT
DTSTART:20220313T080000
END:DAYLIGHT
BEGIN:STANDARD
TZOFFSETFROM:-0500
TZOFFSETTO:-0600
TZNAME:CST
DTSTART:20221106T070000
END:STANDARD
BEGIN:DAYLIGHT
TZOFFSETFROM:-0600
TZOFFSETTO:-0500
TZNAME:CDT
DTSTART:20230312T080000
END:DAYLIGHT
BEGIN:STANDARD
TZOFFSETFROM:-0500
TZOFFSETTO:-0600
TZNAME:CST
DTSTART:20231105T070000
END:STANDARD
BEGIN:DAYLIGHT
TZOFFSETFROM:-0600
TZOFFSETTO:-0500
TZNAME:CDT
DTSTART:20240310T080000
END:DAYLIGHT
BEGIN:STANDARD
TZOFFSETFROM:-0500
TZOFFSETTO:-0600
TZNAME:CST
DTSTART:20241103T070000
END:STANDARD
END:VTIMEZONE
BEGIN:VTIMEZONE
TZID:America/Denver
BEGIN:DAYLIGHT
TZOFFSETFROM:-0700
TZOFFSETTO:-0600
TZNAME:MDT
DTSTART:20220313T090000
END:DAYLIGHT
BEGIN:STANDARD
TZOFFSETFROM:-0600
TZOFFSETTO:-0700
TZNAME:MST
DTSTART:20221106T080000
END:STANDARD
BEGIN:DAYLIGHT
TZOFFSETFROM:-0700
TZOFFSETTO:-0600
TZNAME:MDT
DTSTART:20230312T090000
END:DAYLIGHT
BEGIN:STANDARD
TZOFFSETFROM:-0600
TZOFFSETTO:-0700
TZNAME:MST
DTSTART:20231105T080000
END:STANDARD
BEGIN:DAYLIGHT
TZOFFSETFROM:-0700
TZOFFSETTO:-0600
TZNAME:MDT
DTSTART:20240310T090000
END:DAYLIGHT
BEGIN:STANDARD
TZOFFSETFROM:-0600
TZOFFSETTO:-0700
TZNAME:MST
DTSTART:20241103T080000
END:STANDARD
END:VTIMEZONE
BEGIN:VEVENT
DTSTART;TZID=America/New_York:20240722T124500
DTEND;TZID=America/New_York:20240722T140000
DTSTAMP:20260422T163126
CREATED:20240114T182635Z
LAST-MODIFIED:20240114T183254Z
UID:6117-1721652300-1721656800@www.labgarrettgenealogy.com
SUMMARY:Law of Slavery
DESCRIPTION:IGHR runs 21-26 July 2024.\nThis presentation will be for the course: Researching African American Ancestors: Government Records and Beyond.
URL:https://www.labgarrettgenealogy.com/event/law-of-slavery/
LOCATION:Institute of Genealogy and Historical Research
CATEGORIES:institute
ATTACH;FMTTYPE=image/jpeg:https://www.labgarrettgenealogy.com/wp-content/uploads/IGHR2019.2-e1676123794201.jpg
END:VEVENT
BEGIN:VEVENT
DTSTART;TZID=America/New_York:20230725T110000
DTEND;TZID=America/New_York:20230725T121500
DTSTAMP:20260422T163126
CREATED:20230211T135708Z
LAST-MODIFIED:20230211T135708Z
UID:6014-1690282800-1690287300@www.labgarrettgenealogy.com
SUMMARY:Beef Up Your Analysis: Transcribing and Abstracting
DESCRIPTION:In Course 3: Advanced Methodology and Evidence Analysis
URL:https://www.labgarrettgenealogy.com/event/beef-up-your-analysis-transcribing-and-abstracting/
LOCATION:Institute of Genealogy and Historical Research
CATEGORIES:institute
ATTACH;FMTTYPE=image/jpeg:https://www.labgarrettgenealogy.com/wp-content/uploads/IGHR2019.2-e1676123794201.jpg
END:VEVENT
BEGIN:VEVENT
DTSTART;TZID=America/New_York:20230724T171500
DTEND;TZID=America/New_York:20230724T183000
DTSTAMP:20260422T163126
CREATED:20230211T135153Z
LAST-MODIFIED:20230211T135251Z
UID:6011-1690218900-1690223400@www.labgarrettgenealogy.com
SUMMARY:Citation: Understanding the Material\, Knowing Where to Find It
DESCRIPTION:In Course 3: Advanced Methodology and Evidence Analysis
URL:https://www.labgarrettgenealogy.com/event/citation-understanding-the-material-knowing-where-to-find-it-garrett-nelson/
LOCATION:Institute of Genealogy and Historical Research
CATEGORIES:institute
ATTACH;FMTTYPE=image/jpeg:https://www.labgarrettgenealogy.com/wp-content/uploads/IGHR2019.2-e1676123794201.jpg
END:VEVENT
BEGIN:VEVENT
DTSTART;VALUE=DATE:20230618
DTEND;VALUE=DATE:20230624
DTSTAMP:20260422T163126
CREATED:20201223T132029Z
LAST-MODIFIED:20220719T195203Z
UID:5604-1687046400-1687564799@www.labgarrettgenealogy.com
SUMMARY:Essential Tools and Strategies for African American Research
DESCRIPTION:LaBrenda will present the following lectures: \n  \n\nImportance of Transcribing Documents:\nEffective use of documents in research requires a knowledge of what it says\, and transcription is a basic skill that will improve your view.\nHistorical and Legal Background:\nSeeing the forest through the trees requires an understanding of what has happened\, where it has happened\, and why.\nA South Carolina Case Study\, Identifying Parents of an Enslaved Ancestor:\nFollow this study to learn how one researcher sought to examine the evidence and choose appropriate directions to find the answer.\nUtility of DNA Evidence:\nLearn how to effectively use DNA Evidence in your research questions.
URL:https://www.labgarrettgenealogy.com/event/essential-tools-and-strategies-for-african-american-research/
LOCATION:Genealogical Research Institute of Pittsburgh
CATEGORIES:institute
ATTACH;FMTTYPE=image/jpeg:https://www.labgarrettgenealogy.com/wp-content/uploads/cropped-GRIPlogov5-ESP-w-website-name.jpg
ORGANIZER;CN="Genealogical Research Institute of Pittsburgh":MAILTO:info@GRIPitt.org
END:VEVENT
BEGIN:VEVENT
DTSTART;VALUE=DATE:20230612
DTEND;VALUE=DATE:20230617
DTSTAMP:20260422T163126
CREATED:20230305T160019Z
LAST-MODIFIED:20230305T160019Z
UID:6027-1686528000-1686959999@www.labgarrettgenealogy.com
SUMMARY:Legally Texas: Advanced Legal Research in the Lone Star State
DESCRIPTION:LaBrenda will present 5 lectures in Course 3: Legally Texas: Advanced Legal Research in the Lone Star State at the Texas Institute of Genealogical Research: \n\nThe Law and Records of Enslavement\nTax Law\, Texas Style\nInheritance & Probate\, Texas Style\nWomen’s Rights\, Texas Style\nImmigration & Naturalization\, Texas Style
URL:https://www.labgarrettgenealogy.com/event/legally-texas-advanced-legal-research-in-the-lone-star-state/
CATEGORIES:institute
ATTACH;FMTTYPE=image/jpeg:https://www.labgarrettgenealogy.com/wp-content/uploads/TIGR.jpg
END:VEVENT
BEGIN:VEVENT
DTSTART;TZID=America/Denver:20230122T080000
DTEND;TZID=America/Denver:20230127T170000
DTSTAMP:20260422T163126
CREATED:20220120T142039Z
LAST-MODIFIED:20220120T142143Z
UID:5822-1674374400-1674838800@www.labgarrettgenealogy.com
SUMMARY:African American Genealogy Methods and Strategies
DESCRIPTION:This course is designed to be a skillbuilding experience that will take researchers to the next level by focusing on both methodologies and strategies for meeting the Genealogical Proof Standard when researching families that survived slavery. \nIn-class exercises and a focus on case studies will arm students with the conceptual tools needed to overcome the challenges of researching during the antebellum period.
URL:https://www.labgarrettgenealogy.com/event/african-american-genealogy-methods-and-strategies/
LOCATION:Salt Lake Institute of Genealogy
CATEGORIES:institute
ATTACH;FMTTYPE=image/jpeg:https://www.labgarrettgenealogy.com/wp-content/uploads/SLIGHeader.jpg
ORGANIZER;CN="Salt Lake Institute of Genealogy":MAILTO:registrar@slig.ugagenealogy.org
END:VEVENT
BEGIN:VEVENT
DTSTART;TZID=America/New_York:20220724T080000
DTEND;TZID=America/New_York:20220729T170000
DTSTAMP:20260422T163126
CREATED:20220310T183217Z
LAST-MODIFIED:20220310T184054Z
UID:5843-1658649600-1659114000@www.labgarrettgenealogy.com
SUMMARY:Institute of Genealogy and Historical Research
DESCRIPTION:LaBrenda will teach sessions in two courses: \n•	Course Three — Advanced Methodology and Evidence Analysis\n•	Course Eleven — Researching African American Ancestors: Courthouse Records
URL:https://www.labgarrettgenealogy.com/event/institute-of-genealogy-and-historical-research/
LOCATION:Institute of Genealogy and Historical Research
CATEGORIES:institute
ATTACH;FMTTYPE=image/jpeg:https://www.labgarrettgenealogy.com/wp-content/uploads/IGHR2019.2-e1676123794201.jpg
END:VEVENT
BEGIN:VEVENT
DTSTART;VALUE=DATE:20220114
DTEND;VALUE=DATE:20220115
DTSTAMP:20260422T163126
CREATED:20211010T160743Z
LAST-MODIFIED:20211010T161050Z
UID:5779-1642118400-1642204799@www.labgarrettgenealogy.com
SUMMARY:Correlating Indirect Evidence to Identify Enslaved Parents
DESCRIPTION:in Course 7: Applied Genealogical Methods Workshop
URL:https://www.labgarrettgenealogy.com/event/correlating-indirect-evidence-to-identify-enslaved-parents/
LOCATION:Salt Lake Institute of Genealogy
CATEGORIES:institute
ATTACH;FMTTYPE=image/jpeg:https://www.labgarrettgenealogy.com/wp-content/uploads/SLIGHeader.jpg
ORGANIZER;CN="Salt Lake Institute of Genealogy":MAILTO:registrar@slig.ugagenealogy.org
END:VEVENT
BEGIN:VEVENT
DTSTART;VALUE=DATE:20210723
DTEND;VALUE=DATE:20210724
DTSTAMP:20260422T163126
CREATED:20210421T204114Z
LAST-MODIFIED:20210421T204114Z
UID:5695-1626998400-1627084799@www.labgarrettgenealogy.com
SUMMARY:BCG Board Certification: Your Questions Answered
DESCRIPTION:
URL:https://www.labgarrettgenealogy.com/event/bcg-board-certification-your-questions-answered/
LOCATION:Genealogical Institute on Federal Records (Gen-Fed)
CATEGORIES:institute
ATTACH;FMTTYPE=image/jpeg:https://www.labgarrettgenealogy.com/wp-content/uploads/gen-fed.jpeg
END:VEVENT
BEGIN:VEVENT
DTSTART;VALUE=DATE:20210723
DTEND;VALUE=DATE:20210724
DTSTAMP:20260422T163126
CREATED:20210421T203544Z
LAST-MODIFIED:20210421T204139Z
UID:5690-1626998400-1627084799@www.labgarrettgenealogy.com
SUMMARY:Researching Enslaved African Americans in Federal Records
DESCRIPTION:
URL:https://www.labgarrettgenealogy.com/event/researching-enslaved-african-americans-in-federal-records/
LOCATION:Genealogical Institute on Federal Records (Gen-Fed)
CATEGORIES:institute
ATTACH;FMTTYPE=image/jpeg:https://www.labgarrettgenealogy.com/wp-content/uploads/gen-fed.jpeg
END:VEVENT
BEGIN:VEVENT
DTSTART;TZID=America/New_York:20210129T200000
DTEND;TZID=America/New_York:20210129T213000
DTSTAMP:20260422T163126
CREATED:20210110T200743Z
LAST-MODIFIED:20210110T201138Z
UID:5635-1611950400-1611955800@www.labgarrettgenealogy.com
SUMMARY:Excellence is Not an Act\, but a Habit
DESCRIPTION:SLIG Wrap-up Event and Keynote 2021
URL:https://www.labgarrettgenealogy.com/event/excellence-is-not-an-act-but-a-habit/
LOCATION:Salt Lake Institute of Genealogy
CATEGORIES:institute
ATTACH;FMTTYPE=image/jpeg:https://www.labgarrettgenealogy.com/wp-content/uploads/SLIGHeader.jpg
ORGANIZER;CN="Salt Lake Institute of Genealogy":MAILTO:registrar@slig.ugagenealogy.org
END:VEVENT
BEGIN:VEVENT
DTSTART;VALUE=DATE:20210124
DTEND;VALUE=DATE:20210130
DTSTAMP:20260422T163126
CREATED:20200211T144934Z
LAST-MODIFIED:20200826T135708Z
UID:5377-1611446400-1611964799@www.labgarrettgenealogy.com
SUMMARY:In-depth African American Genealogy
DESCRIPTION:In-Depth African American Genealogy coordinated by LaBrenda Garrett-Nelson\, JD\, LLM\, CG\, CGL will provide a foundational overview of the records and strategies needed to research African American ancestors. \nResearching enslaved families in the antebellum era and strategies for West India research will be included in the course.  \nOther instructors include: \n\nDeborah A. Abbott\, PhD\nMichael G. Hait\, CG\, CGL\nNancy A. Peters\, CG\, CGL\nJudy G. Russell\, JD\, CG\, CGL\nDiane M. Warmsley\nScott Wilds\, CG\nAri Wilkins\n\nSLIG 2021 will be held virtually. Registration will open August 8\, 2020.
URL:https://www.labgarrettgenealogy.com/event/in-depth-african-american-genealogy/
LOCATION:Salt Lake Institute of Genealogy
CATEGORIES:institute
ATTACH;FMTTYPE=image/png:https://www.labgarrettgenealogy.com/wp-content/uploads/SLIG2021_2.png
END:VEVENT
BEGIN:VEVENT
DTSTART;VALUE=DATE:20200112
DTEND;VALUE=DATE:20200118
DTSTAMP:20260422T163126
CREATED:20200204T171109Z
LAST-MODIFIED:20200204T184646Z
UID:5275-1578787200-1579305599@www.labgarrettgenealogy.com
SUMMARY:2020 Salt Lake Institute of Genealogy
DESCRIPTION:Genealogical Implications of Slavery’s History\nBecoming American: A Deeper Look at Immigration & Naturalization Records and Their Laws\nA Hypothesized Enslaved African American Couple – The Garrett Case\nPlanning Research\nNarrative Genealogies\, Lineages\, Pedigrees\nMeasuring Yourself Against Standards – BCG Certification
URL:https://www.labgarrettgenealogy.com/event/2020-salt-lake-institute-of-genealogy/
CATEGORIES:institute
ATTACH;FMTTYPE=image/jpeg:https://www.labgarrettgenealogy.com/wp-content/uploads/SLIGHeader.jpg
END:VEVENT
END:VCALENDAR