BEGIN:VCALENDAR
VERSION:2.0
PRODID:-//LaBGarrett Genealogy - ECPv6.15.20//NONSGML v1.0//EN
CALSCALE:GREGORIAN
METHOD:PUBLISH
X-ORIGINAL-URL:https://www.labgarrettgenealogy.com
X-WR-CALDESC:Events for LaBGarrett Genealogy
REFRESH-INTERVAL;VALUE=DURATION:PT1H
X-Robots-Tag:noindex
X-PUBLISHED-TTL:PT1H
BEGIN:VTIMEZONE
TZID:America/New_York
BEGIN:DAYLIGHT
TZOFFSETFROM:-0500
TZOFFSETTO:-0400
TZNAME:EDT
DTSTART:20250309T070000
END:DAYLIGHT
BEGIN:STANDARD
TZOFFSETFROM:-0400
TZOFFSETTO:-0500
TZNAME:EST
DTSTART:20251102T060000
END:STANDARD
BEGIN:DAYLIGHT
TZOFFSETFROM:-0500
TZOFFSETTO:-0400
TZNAME:EDT
DTSTART:20260308T070000
END:DAYLIGHT
BEGIN:STANDARD
TZOFFSETFROM:-0400
TZOFFSETTO:-0500
TZNAME:EST
DTSTART:20261101T060000
END:STANDARD
BEGIN:DAYLIGHT
TZOFFSETFROM:-0500
TZOFFSETTO:-0400
TZNAME:EDT
DTSTART:20270314T070000
END:DAYLIGHT
BEGIN:STANDARD
TZOFFSETFROM:-0400
TZOFFSETTO:-0500
TZNAME:EST
DTSTART:20271107T060000
END:STANDARD
END:VTIMEZONE
BEGIN:VEVENT
DTSTART;VALUE=DATE:20260129
DTEND;VALUE=DATE:20260130
DTSTAMP:20260422T175759
CREATED:20250918T162529Z
LAST-MODIFIED:20250918T163854Z
UID:6414-1769644800-1769731199@www.labgarrettgenealogy.com
SUMMARY:Researching Enslaved African Americans in the Antebellum Period
DESCRIPTION:In course Lives in Context\, SLIG Virtual 2026 \nLectures Include:  \nHistorical Background\, 10:30-11:45  \nGenealogy standards for researching contemplate the consideration of historical context\, a factor that has heightened significance when researching enslaved ancestors due to the dearth of direct evidence of relationships or identities. The first lecture in this session will provide an overview of historical developments that resulted in the creation of records of particular relevance to those of African descent with roots in the antebellum period.  \nStrategies for Using The Records of Slavery\, 12:15-1:30  \nIn addition to highlighting selected records of particular use to those of African descent with roots in the antebellum period\, this session will cover strategies for researching in this area and the utility of these records. \nDNA Basics\, 3:00-4:15 \nReasonably exhaustive research in non-genetic sources is necessary to obtain enough documentary evidence to run meaningful DNA tests that could reveal conflicting or supporting evidence. This session will review decision points involved in planning DNA tests and integrating the results into a proof argument regarding enslaved ancestors. \nParents for Isaac Garrett : A Case Study\, 4:45-6:00  \nThe Isaac Garrett Case Study (“Parents for Isaac Garrett of Laurens County\, South Carolina: DNA Corroborates Oral Tradition\,” National Genealogical Society Quarterly 108 (June 2020): 85-112) won the NGSQ Award for excellence in 2021. This session will set forth the case for Isaac’s relationship to an enslaved couple named Samuel and Nancy Garrett\, based primarily on indirect and DNA evidence.
URL:https://www.labgarrettgenealogy.com/event/researching-enslaved-african-americans-in-the-antebellum-period/
LOCATION:Salt Lake Institute of Genealogy
CATEGORIES:institute,Virtual Class
ATTACH;FMTTYPE=image/png:https://www.labgarrettgenealogy.com/wp-content/uploads/SLIGfall2025-1.png
ORGANIZER;CN="Salt Lake Institute of Genealogy":MAILTO:registrar@slig.ugagenealogy.org
END:VEVENT
END:VCALENDAR