BEGIN:VCALENDAR
VERSION:2.0
PRODID:-//LaBGarrett Genealogy - ECPv6.15.20//NONSGML v1.0//EN
CALSCALE:GREGORIAN
METHOD:PUBLISH
X-WR-CALNAME:LaBGarrett Genealogy
X-ORIGINAL-URL:https://www.labgarrettgenealogy.com
X-WR-CALDESC:Events for LaBGarrett Genealogy
REFRESH-INTERVAL;VALUE=DURATION:PT1H
X-Robots-Tag:noindex
X-PUBLISHED-TTL:PT1H
BEGIN:VTIMEZONE
TZID:America/New_York
BEGIN:DAYLIGHT
TZOFFSETFROM:-0500
TZOFFSETTO:-0400
TZNAME:EDT
DTSTART:20250309T070000
END:DAYLIGHT
BEGIN:STANDARD
TZOFFSETFROM:-0400
TZOFFSETTO:-0500
TZNAME:EST
DTSTART:20251102T060000
END:STANDARD
BEGIN:DAYLIGHT
TZOFFSETFROM:-0500
TZOFFSETTO:-0400
TZNAME:EDT
DTSTART:20260308T070000
END:DAYLIGHT
BEGIN:STANDARD
TZOFFSETFROM:-0400
TZOFFSETTO:-0500
TZNAME:EST
DTSTART:20261101T060000
END:STANDARD
BEGIN:DAYLIGHT
TZOFFSETFROM:-0500
TZOFFSETTO:-0400
TZNAME:EDT
DTSTART:20270314T070000
END:DAYLIGHT
BEGIN:STANDARD
TZOFFSETFROM:-0400
TZOFFSETTO:-0500
TZNAME:EST
DTSTART:20271107T060000
END:STANDARD
END:VTIMEZONE
BEGIN:VTIMEZONE
TZID:America/Denver
BEGIN:DAYLIGHT
TZOFFSETFROM:-0700
TZOFFSETTO:-0600
TZNAME:MDT
DTSTART:20260308T090000
END:DAYLIGHT
BEGIN:STANDARD
TZOFFSETFROM:-0600
TZOFFSETTO:-0700
TZNAME:MST
DTSTART:20261101T080000
END:STANDARD
BEGIN:DAYLIGHT
TZOFFSETFROM:-0700
TZOFFSETTO:-0600
TZNAME:MDT
DTSTART:20270314T090000
END:DAYLIGHT
BEGIN:STANDARD
TZOFFSETFROM:-0600
TZOFFSETTO:-0700
TZNAME:MST
DTSTART:20271107T080000
END:STANDARD
BEGIN:DAYLIGHT
TZOFFSETFROM:-0700
TZOFFSETTO:-0600
TZNAME:MDT
DTSTART:20280312T090000
END:DAYLIGHT
BEGIN:STANDARD
TZOFFSETFROM:-0600
TZOFFSETTO:-0700
TZNAME:MST
DTSTART:20281105T080000
END:STANDARD
END:VTIMEZONE
BEGIN:VEVENT
DTSTART;TZID=America/New_York:20260727T124500
DTEND;TZID=America/New_York:20260727T140000
DTSTAMP:20260422T162728
CREATED:20260212T144823Z
LAST-MODIFIED:20260212T144823Z
UID:6470-1785156300-1785160800@www.labgarrettgenealogy.com
SUMMARY:Importance of Meeting Genealogical Standards in African American Research Planning
DESCRIPTION:In the course Building African American Families: Records\, Resources & Documentation.
URL:https://www.labgarrettgenealogy.com/event/importance-of-meeting-genealogical-standards-in-african-american-research-planning/
LOCATION:Institute of Genealogy and Historical Research
CATEGORIES:institute,Virtual Class
ATTACH;FMTTYPE=image/jpeg:https://www.labgarrettgenealogy.com/wp-content/uploads/IGHR2019.2-e1676123794201.jpg
END:VEVENT
BEGIN:VEVENT
DTSTART;TZID=America/New_York:20260727T150000
DTEND;TZID=America/New_York:20260727T161500
DTSTAMP:20260422T162728
CREATED:20260212T145632Z
LAST-MODIFIED:20260212T151522Z
UID:6474-1785164400-1785168900@www.labgarrettgenealogy.com
SUMMARY:Citation: Understanding the Material\, Knowing Where to Find It
DESCRIPTION:In the core course three: Advanced Methodology and Evidence Analysis.
URL:https://www.labgarrettgenealogy.com/event/citationunderstanding-the-material-knowing-where-to-find-it/
LOCATION:Institute of Genealogy and Historical Research
CATEGORIES:institute,Virtual Class
ATTACH;FMTTYPE=image/jpeg:https://www.labgarrettgenealogy.com/wp-content/uploads/IGHR2019.2-e1676123794201.jpg
END:VEVENT
BEGIN:VEVENT
DTSTART;TZID=America/New_York:20260727T164500
DTEND;TZID=America/New_York:20260727T180000
DTSTAMP:20260422T162728
CREATED:20260212T145147Z
LAST-MODIFIED:20260212T145147Z
UID:6472-1785170700-1785175200@www.labgarrettgenealogy.com
SUMMARY:The Law of Slavery
DESCRIPTION:In the course Building African American Families: Records\, Resources & Documentation.
URL:https://www.labgarrettgenealogy.com/event/the-law-of-slavery/
LOCATION:Institute of Genealogy and Historical Research
CATEGORIES:institute,Virtual Class
ATTACH;FMTTYPE=image/jpeg:https://www.labgarrettgenealogy.com/wp-content/uploads/IGHR2019.2-e1676123794201.jpg
END:VEVENT
BEGIN:VEVENT
DTSTART;TZID=America/New_York:20260728T110000
DTEND;TZID=America/New_York:20260728T121500
DTSTAMP:20260422T162728
CREATED:20260212T150357Z
LAST-MODIFIED:20260212T151550Z
UID:6477-1785236400-1785240900@www.labgarrettgenealogy.com
SUMMARY:Beef Up Your Analysis: Transcribing and Abstracting
DESCRIPTION:In the core course three: Advanced Methodology and Evidence Analysis.
URL:https://www.labgarrettgenealogy.com/event/beef-up-your-analysis-transcribing-and-abstracting-4/
LOCATION:Institute of Genealogy and Historical Research
CATEGORIES:institute,Virtual Class
ATTACH;FMTTYPE=image/jpeg:https://www.labgarrettgenealogy.com/wp-content/uploads/IGHR2019.2-e1676123794201.jpg
END:VEVENT
BEGIN:VEVENT
DTSTART;TZID=America/New_York:20260730T150000
DTEND;TZID=America/New_York:20260730T161500
DTSTAMP:20260422T162728
CREATED:20260212T151022Z
LAST-MODIFIED:20260212T151022Z
UID:6479-1785423600-1785428100@www.labgarrettgenealogy.com
SUMMARY:Probate (Wills\, Estates\, & Settlements) Records: A Principal Source for Antebellum Research
DESCRIPTION:In the course Building African American Families: Records\, Resources & Documentation.
URL:https://www.labgarrettgenealogy.com/event/probate-wills-estates-settlements-records-a-principal-source-for-antebellum-research/
LOCATION:Institute of Genealogy and Historical Research
CATEGORIES:institute,Virtual Class
ATTACH;FMTTYPE=image/jpeg:https://www.labgarrettgenealogy.com/wp-content/uploads/IGHR2019.2-e1676123794201.jpg
END:VEVENT
BEGIN:VEVENT
DTSTART;TZID=America/New_York:20260908T180000
DTEND;TZID=America/New_York:20260908T191500
DTSTAMP:20260422T162728
CREATED:20251124T135034Z
LAST-MODIFIED:20251124T135034Z
UID:6437-1788890400-1788894900@www.labgarrettgenealogy.com
SUMMARY:African American Research in South Carolina-Pre-Emancipation
DESCRIPTION:In the Researching Your South Carolina Roots: Finding Family in the Palmetto State course.
URL:https://www.labgarrettgenealogy.com/event/african-american-research-in-south-carolina-pre-emancipation/
LOCATION:Institute of Genealogy and Historical Research
CATEGORIES:institute,Virtual Class
ATTACH;FMTTYPE=image/jpeg:https://www.labgarrettgenealogy.com/wp-content/uploads/IGHR2019.2-e1676123794201.jpg
END:VEVENT
BEGIN:VEVENT
DTSTART;TZID=America/New_York:20260908T193000
DTEND;TZID=America/New_York:20260908T204500
DTSTAMP:20260422T162728
CREATED:20251124T135433Z
LAST-MODIFIED:20251124T135433Z
UID:6439-1788895800-1788900300@www.labgarrettgenealogy.com
SUMMARY:African American Research in South Carolina-Post Emancipation
DESCRIPTION:In the Researching Your South Carolina Roots: Finding Family in the Palmetto State course.
URL:https://www.labgarrettgenealogy.com/event/african-american-research-in-south-carolina-post-emancipation/
LOCATION:Institute of Genealogy and Historical Research
CATEGORIES:institute,Virtual Class
ATTACH;FMTTYPE=image/jpeg:https://www.labgarrettgenealogy.com/wp-content/uploads/IGHR2019.2-e1676123794201.jpg
END:VEVENT
BEGIN:VEVENT
DTSTART;TZID=America/New_York:20260922T180000
DTEND;TZID=America/New_York:20260922T191500
DTSTAMP:20260422T162728
CREATED:20251124T135854Z
LAST-MODIFIED:20251124T135854Z
UID:6441-1790100000-1790104500@www.labgarrettgenealogy.com
SUMMARY:South Carolina and the Law
DESCRIPTION:In the Researching Your South Carolina Roots: Finding Family in the Palmetto State course.
URL:https://www.labgarrettgenealogy.com/event/south-carolina-and-the-law/
LOCATION:Institute of Genealogy and Historical Research
CATEGORIES:institute,Virtual Class
ATTACH;FMTTYPE=image/jpeg:https://www.labgarrettgenealogy.com/wp-content/uploads/IGHR2019.2-e1676123794201.jpg
END:VEVENT
BEGIN:VEVENT
DTSTART;TZID=America/Denver:20270125T080000
DTEND;TZID=America/Denver:20270129T170000
DTSTAMP:20260422T162728
CREATED:20260202T194024Z
LAST-MODIFIED:20260202T194236Z
UID:6464-1800864000-1801242000@www.labgarrettgenealogy.com
SUMMARY:African American Research
DESCRIPTION:This course is designed to be a skill building experience that includes both methodology and strategies for meeting the Genealogical Proof Standard when researching ancestors of African descent. In addition to foundational lectures such as the law and history of American slavery\, case studies will arm students with the conceptual tools needed to overcome the challenges of researching during the antebellum period. Students will also learn about unique record sets for ancestors with roots in the Louisiana Creole\, Native American Freedmen\, and West Indian communities. \nLaBrenda is the coordinator for this course as well as an instructor. More detailed information on the schedule is forthcoming.
URL:https://www.labgarrettgenealogy.com/event/african-american-research/
LOCATION:Salt Lake Institute of Genealogy
CATEGORIES:institute,Virtual Class
ATTACH;FMTTYPE=image/png:https://www.labgarrettgenealogy.com/wp-content/uploads/2027SLIG_Virtual.png
ORGANIZER;CN="Salt Lake Institute of Genealogy":MAILTO:registrar@slig.ugagenealogy.org
END:VEVENT
END:VCALENDAR