BEGIN:VCALENDAR
VERSION:2.0
PRODID:-//LaBGarrett Genealogy - ECPv6.15.20//NONSGML v1.0//EN
CALSCALE:GREGORIAN
METHOD:PUBLISH
X-ORIGINAL-URL:https://www.labgarrettgenealogy.com
X-WR-CALDESC:Events for LaBGarrett Genealogy
REFRESH-INTERVAL;VALUE=DURATION:PT1H
X-Robots-Tag:noindex
X-PUBLISHED-TTL:PT1H
BEGIN:VTIMEZONE
TZID:America/New_York
BEGIN:DAYLIGHT
TZOFFSETFROM:-0500
TZOFFSETTO:-0400
TZNAME:EDT
DTSTART:20200308T070000
END:DAYLIGHT
BEGIN:STANDARD
TZOFFSETFROM:-0400
TZOFFSETTO:-0500
TZNAME:EST
DTSTART:20201101T060000
END:STANDARD
BEGIN:DAYLIGHT
TZOFFSETFROM:-0500
TZOFFSETTO:-0400
TZNAME:EDT
DTSTART:20210314T070000
END:DAYLIGHT
BEGIN:STANDARD
TZOFFSETFROM:-0400
TZOFFSETTO:-0500
TZNAME:EST
DTSTART:20211107T060000
END:STANDARD
BEGIN:DAYLIGHT
TZOFFSETFROM:-0500
TZOFFSETTO:-0400
TZNAME:EDT
DTSTART:20220313T070000
END:DAYLIGHT
BEGIN:STANDARD
TZOFFSETFROM:-0400
TZOFFSETTO:-0500
TZNAME:EST
DTSTART:20221106T060000
END:STANDARD
BEGIN:DAYLIGHT
TZOFFSETFROM:-0500
TZOFFSETTO:-0400
TZNAME:EDT
DTSTART:20230312T070000
END:DAYLIGHT
BEGIN:STANDARD
TZOFFSETFROM:-0400
TZOFFSETTO:-0500
TZNAME:EST
DTSTART:20231105T060000
END:STANDARD
BEGIN:DAYLIGHT
TZOFFSETFROM:-0500
TZOFFSETTO:-0400
TZNAME:EDT
DTSTART:20240310T070000
END:DAYLIGHT
BEGIN:STANDARD
TZOFFSETFROM:-0400
TZOFFSETTO:-0500
TZNAME:EST
DTSTART:20241103T060000
END:STANDARD
BEGIN:DAYLIGHT
TZOFFSETFROM:-0500
TZOFFSETTO:-0400
TZNAME:EDT
DTSTART:20250309T070000
END:DAYLIGHT
BEGIN:STANDARD
TZOFFSETFROM:-0400
TZOFFSETTO:-0500
TZNAME:EST
DTSTART:20251102T060000
END:STANDARD
BEGIN:DAYLIGHT
TZOFFSETFROM:-0500
TZOFFSETTO:-0400
TZNAME:EDT
DTSTART:20260308T070000
END:DAYLIGHT
BEGIN:STANDARD
TZOFFSETFROM:-0400
TZOFFSETTO:-0500
TZNAME:EST
DTSTART:20261101T060000
END:STANDARD
END:VTIMEZONE
BEGIN:VTIMEZONE
TZID:America/Denver
BEGIN:DAYLIGHT
TZOFFSETFROM:-0700
TZOFFSETTO:-0600
TZNAME:MDT
DTSTART:20220313T090000
END:DAYLIGHT
BEGIN:STANDARD
TZOFFSETFROM:-0600
TZOFFSETTO:-0700
TZNAME:MST
DTSTART:20221106T080000
END:STANDARD
BEGIN:DAYLIGHT
TZOFFSETFROM:-0700
TZOFFSETTO:-0600
TZNAME:MDT
DTSTART:20230312T090000
END:DAYLIGHT
BEGIN:STANDARD
TZOFFSETFROM:-0600
TZOFFSETTO:-0700
TZNAME:MST
DTSTART:20231105T080000
END:STANDARD
BEGIN:DAYLIGHT
TZOFFSETFROM:-0700
TZOFFSETTO:-0600
TZNAME:MDT
DTSTART:20240310T090000
END:DAYLIGHT
BEGIN:STANDARD
TZOFFSETFROM:-0600
TZOFFSETTO:-0700
TZNAME:MST
DTSTART:20241103T080000
END:STANDARD
BEGIN:DAYLIGHT
TZOFFSETFROM:-0700
TZOFFSETTO:-0600
TZNAME:MDT
DTSTART:20250309T090000
END:DAYLIGHT
BEGIN:STANDARD
TZOFFSETFROM:-0600
TZOFFSETTO:-0700
TZNAME:MST
DTSTART:20251102T080000
END:STANDARD
BEGIN:DAYLIGHT
TZOFFSETFROM:-0700
TZOFFSETTO:-0600
TZNAME:MDT
DTSTART:20260308T090000
END:DAYLIGHT
BEGIN:STANDARD
TZOFFSETFROM:-0600
TZOFFSETTO:-0700
TZNAME:MST
DTSTART:20261101T080000
END:STANDARD
END:VTIMEZONE
BEGIN:VTIMEZONE
TZID:America/Los_Angeles
BEGIN:DAYLIGHT
TZOFFSETFROM:-0800
TZOFFSETTO:-0700
TZNAME:PDT
DTSTART:20210314T100000
END:DAYLIGHT
BEGIN:STANDARD
TZOFFSETFROM:-0700
TZOFFSETTO:-0800
TZNAME:PST
DTSTART:20211107T090000
END:STANDARD
BEGIN:DAYLIGHT
TZOFFSETFROM:-0800
TZOFFSETTO:-0700
TZNAME:PDT
DTSTART:20220313T100000
END:DAYLIGHT
BEGIN:STANDARD
TZOFFSETFROM:-0700
TZOFFSETTO:-0800
TZNAME:PST
DTSTART:20221106T090000
END:STANDARD
BEGIN:DAYLIGHT
TZOFFSETFROM:-0800
TZOFFSETTO:-0700
TZNAME:PDT
DTSTART:20230312T100000
END:DAYLIGHT
BEGIN:STANDARD
TZOFFSETFROM:-0700
TZOFFSETTO:-0800
TZNAME:PST
DTSTART:20231105T090000
END:STANDARD
END:VTIMEZONE
BEGIN:VEVENT
DTSTART;TZID=America/New_York:20250729T110000
DTEND;TZID=America/New_York:20250729T121500
DTSTAMP:20260422T152320
CREATED:20241229T183631Z
LAST-MODIFIED:20241229T183631Z
UID:6316-1753786800-1753791300@www.labgarrettgenealogy.com
SUMMARY:Beef Up Your Analysis: Transcribing and Abstracting
DESCRIPTION:
URL:https://www.labgarrettgenealogy.com/event/beef-up-your-analysis-transcribing-and-abstracting-3/
LOCATION:Institute of Genealogy and Historical Research
CATEGORIES:virtual conference
ATTACH;FMTTYPE=image/jpeg:https://www.labgarrettgenealogy.com/wp-content/uploads/IGHR2019.2-e1676123794201.jpg
END:VEVENT
BEGIN:VEVENT
DTSTART;TZID=America/Denver:20250306T080000
DTEND;TZID=America/Denver:20250308T170000
DTSTAMP:20260422T152320
CREATED:20241229T182630Z
LAST-MODIFIED:20241229T183820Z
UID:6312-1741248000-1741453200@www.labgarrettgenealogy.com
SUMMARY:Using Indirect Evidence to Identify Enslaved Parents
DESCRIPTION:Genealogy standards have universal application and this session is based on a ase study that illustrates how these standards can be met in where there is a dearth of direct evidence.  \nThis is a virtual event.
URL:https://www.labgarrettgenealogy.com/event/using-indirect-evidence-to-identify-enslaved-parents/
LOCATION:Rootstech
CATEGORIES:virtual conference
ATTACH;FMTTYPE=image/jpeg:https://www.labgarrettgenealogy.com/wp-content/uploads/rootstech.jpg
END:VEVENT
BEGIN:VEVENT
DTSTART;TZID=America/Denver:20250306T080000
DTEND;TZID=America/Denver:20250308T170000
DTSTAMP:20260422T152320
CREATED:20241229T182322Z
LAST-MODIFIED:20241229T182322Z
UID:6310-1741248000-1741453200@www.labgarrettgenealogy.com
SUMMARY:The Importance of Developing Research Plans
DESCRIPTION:Planning researches is an essential step in the process of meeting the first component of the Genealogical Proof Standard: “reasonably exhaustive research.” This session will hep attendees to identify logical sources and efficiently prioritize research steps. \nThose coming to this session would benefit from understanding the elements of the Genealogical Proof Standard as well as bringing a laptop to the session.  \nThis is a virtual presentation.
URL:https://www.labgarrettgenealogy.com/event/the-importance-of-developing-research-plans/
LOCATION:Rootstech
CATEGORIES:virtual conference
ATTACH;FMTTYPE=image/jpeg:https://www.labgarrettgenealogy.com/wp-content/uploads/rootstech.jpg
END:VEVENT
BEGIN:VEVENT
DTSTART;TZID=America/New_York:20240518T143000
DTEND;TZID=America/New_York:20240518T153000
DTSTAMP:20260422T152320
CREATED:20240114T181901Z
LAST-MODIFIED:20240126T145712Z
UID:6115-1716042600-1716046200@www.labgarrettgenealogy.com
SUMMARY:Researching African Americans in Equity Court Files
DESCRIPTION:Session S202
URL:https://www.labgarrettgenealogy.com/event/researching-african-americans-in-equity-court-files/
LOCATION:National Genealogical Society
CATEGORIES:virtual conference
ATTACH;FMTTYPE=image/jpeg:https://www.labgarrettgenealogy.com/wp-content/uploads/EXPANDING-and-FOCUS-full-image-2560-×-722-px-1140-x-335-px.jpg
ORGANIZER;CN="National Genealogical Society":MAILTO:ngs@ngsgenealogy.org
END:VEVENT
BEGIN:VEVENT
DTSTART;TZID=America/New_York:20240517T171500
DTEND;TZID=America/New_York:20240517T181500
DTSTAMP:20260422T152320
CREATED:20240114T181608Z
LAST-MODIFIED:20240126T145606Z
UID:6112-1715966100-1715969700@www.labgarrettgenealogy.com
SUMMARY:BCG Skillbuilding: Using Social and Historical Context to Support Indirect Evidence
DESCRIPTION:Session F401
URL:https://www.labgarrettgenealogy.com/event/bcg-skillbuilding-using-social-and-historical-context-to-support-indirect-evidence/
LOCATION:National Genealogical Society
CATEGORIES:virtual conference
ATTACH;FMTTYPE=image/jpeg:https://www.labgarrettgenealogy.com/wp-content/uploads/EXPANDING-and-FOCUS-full-image-2560-×-722-px-1140-x-335-px.jpg
ORGANIZER;CN="National Genealogical Society":MAILTO:ngs@ngsgenealogy.org
END:VEVENT
BEGIN:VEVENT
DTSTART;TZID=America/New_York:20230603T093000
DTEND;TZID=America/New_York:20230603T103000
DTSTAMP:20260422T152320
CREATED:20230219T152635Z
LAST-MODIFIED:20230219T152759Z
UID:6022-1685784600-1685788200@www.labgarrettgenealogy.com
SUMMARY:The Intersection of Antebellum Property Rights and Slavery
DESCRIPTION:Records relating to the property rights of slaveholding families provide genealogically relevant information about the enslaved. \nAlso online as part of the At Home Virtual Program.
URL:https://www.labgarrettgenealogy.com/event/the-intersection-of-antebellum-property-rights-and-slavery/
CATEGORIES:conference,virtual conference
ATTACH;FMTTYPE=image/png:https://www.labgarrettgenealogy.com/wp-content/uploads/2023-NGS-Conference.png
ORGANIZER;CN="National Genealogical Society":MAILTO:ngs@ngsgenealogy.org
END:VEVENT
BEGIN:VEVENT
DTSTART;TZID=America/New_York:20230520T133000
DTEND;TZID=America/New_York:20230520T143000
DTSTAMP:20260422T152320
CREATED:20230310T134311Z
LAST-MODIFIED:20230310T134350Z
UID:6031-1684589400-1684593000@www.labgarrettgenealogy.com
SUMMARY:Family History Sampler: Different Strategies for Diverse Ancestors
DESCRIPTION:LaBrenda will present Correlating Indirect Evidence to Identify Enslaved Parents at 1:30pm.
URL:https://www.labgarrettgenealogy.com/event/family-history-sampler-different-strategies-for-diverse-ancestors/
LOCATION:Historical Society of Pennsylvania
CATEGORIES:virtual conference
ATTACH;FMTTYPE=image/jpeg:https://www.labgarrettgenealogy.com/wp-content/uploads/FamilyHistorySampler.jpg
END:VEVENT
BEGIN:VEVENT
DTSTART;TZID=America/Denver:20230302T153000
DTEND;TZID=America/Denver:20230302T163000
DTSTAMP:20260422T152320
CREATED:20230129T165102Z
LAST-MODIFIED:20230129T165102Z
UID:5987-1677771000-1677774600@www.labgarrettgenealogy.com
SUMMARY:State and County Courts
DESCRIPTION:LaBrenda Garrett-Nelson\, JD\, LLM\, CG®\, FASG\, will cover antebellum court records that are among the most useful sources of genealogically relevant information about African American ancestors\, including the organizational structures of the state and local courts that these ancestors—enslaved and free—typically came into contact with as well as the records created.
URL:https://www.labgarrettgenealogy.com/event/state-and-county-courts/
LOCATION:Rootstech
CATEGORIES:virtual conference
ATTACH;FMTTYPE=image/jpeg:https://www.labgarrettgenealogy.com/wp-content/uploads/rootstech.jpg
END:VEVENT
BEGIN:VEVENT
DTSTART;TZID=America/Denver:20230302T100000
DTEND;TZID=America/Denver:20230302T110000
DTSTAMP:20260422T152320
CREATED:20230129T163743Z
LAST-MODIFIED:20230129T164604Z
UID:5982-1677751200-1677754800@www.labgarrettgenealogy.com
SUMMARY:Antebellum Emancipations and Free People of Color
DESCRIPTION:Two of the foremost educators in the area of African American Genealogy will present a joint lecture focused on ancestors who were emancipated before chattel slavery was finally abolished: \nLaBrenda Garrett-Nelson JD\, LLM\, CG®\, FASG will lead off with a focus on the ways in which enslaved people could be manumitted before the abolition of chattel slavery\, and Dr. Deborah A. Abbott PhD will follow-up with the treatment of Free People of Color in the period leading to the Civil War.
URL:https://www.labgarrettgenealogy.com/event/antebellum-emancipations-and-free-people-of-color/
LOCATION:Rootstech
CATEGORIES:virtual conference
ATTACH;FMTTYPE=image/jpeg:https://www.labgarrettgenealogy.com/wp-content/uploads/rootstech.jpg
END:VEVENT
BEGIN:VEVENT
DTSTART;TZID=America/New_York:20230225T164500
DTEND;TZID=America/New_York:20230225T174500
DTSTAMP:20260422T152320
CREATED:20230202T225935Z
LAST-MODIFIED:20230202T225935Z
UID:6005-1677343500-1677347100@www.labgarrettgenealogy.com
SUMMARY:Using DNA Tests to Identify Enslaved Parents
DESCRIPTION:
URL:https://www.labgarrettgenealogy.com/event/using-dna-tests-to-identify-enslaved-parents-2/
LOCATION:Online
CATEGORIES:virtual conference
ATTACH;FMTTYPE=image/jpeg:https://www.labgarrettgenealogy.com/wp-content/uploads/nj2023-02-02_17-42-13.jpg
END:VEVENT
BEGIN:VEVENT
DTSTART;VALUE=DATE:20221112
DTEND;VALUE=DATE:20221113
DTSTAMP:20260422T152320
CREATED:20220911T142712Z
LAST-MODIFIED:20220911T142841Z
UID:5910-1668211200-1668297599@www.labgarrettgenealogy.com
SUMMARY:Michigan Genealogical Conference Fall Seminar
DESCRIPTION:Planning Research: The development of a sound research plan is the first step in the thorough research required by the Genealogy Proof Standard.\n\nStrengthen Your Analysis: Fundamentals of Transcribing and Abstracting The ability to craft transcriptions and abstracts is an essential skill that is needed to accurately interpret handwritten records. \nMeeting Standards for Narrative Genealogies\, Lineages\, and Pedigrees: An understanding of generally accepted formatting options is helpful in presenting information about family relationships and successive generations. \nAn NGSQ Case Study: DNA Corroborates Oral Tradition: The case study that won the NGSQ 2020 Award for Excellence illustrated the information needed to make sound decisions on when DNA tests can or should be used in genealogical research\, and how to meet DNA-specific Genealogy Standards.
URL:https://www.labgarrettgenealogy.com/event/michigan-genealogical-conference-fall-seminar/
LOCATION:Michigan Genealogical Council
CATEGORIES:virtual conference
ATTACH;FMTTYPE=image/png:https://www.labgarrettgenealogy.com/wp-content/uploads/mgc.png
END:VEVENT
BEGIN:VEVENT
DTSTART;TZID=America/New_York:20221104T120000
DTEND;TZID=America/New_York:20221104T130000
DTSTAMP:20260422T152320
CREATED:20221016T145108Z
LAST-MODIFIED:20221025T234948Z
UID:5929-1667563200-1667566800@www.labgarrettgenealogy.com
SUMMARY:The Future of Genealogy
DESCRIPTION:This panel will be discussing the future of genealogy – what we might look forward to\, what might be some pitfalls and what best practices we might want to include. Panelists include: Eowyn Langholf (facilitator)\, Mags Gaulden\, Jen Baldwin\, Kathryn Lake Hogan\, LaBrenda Garrett-Nelson and Thomas MacEntee.
URL:https://www.labgarrettgenealogy.com/event/the-future-of-genealogy/
LOCATION:WikiTree
CATEGORIES:virtual conference
ATTACH;FMTTYPE=image/png:https://www.labgarrettgenealogy.com/wp-content/uploads/wikitree.png
END:VEVENT
BEGIN:VEVENT
DTSTART;TZID=America/New_York:20220709T153000
DTEND;TZID=America/New_York:20220709T163000
DTSTAMP:20260422T152320
CREATED:20220408T140114Z
LAST-MODIFIED:20220408T140855Z
UID:5860-1657380600-1657384200@www.labgarrettgenealogy.com
SUMMARY:Genealogy Standards for Planning Research
DESCRIPTION:
URL:https://www.labgarrettgenealogy.com/event/genealogy-standards-for-planning-research/
CATEGORIES:virtual conference
ATTACH;FMTTYPE=image/jpeg:https://www.labgarrettgenealogy.com/wp-content/uploads/SCGS-blue-logo-opt.jpg
END:VEVENT
BEGIN:VEVENT
DTSTART;TZID=America/Los_Angeles:20220527T093000
DTEND;TZID=America/Los_Angeles:20220527T120000
DTSTAMP:20260422T152320
CREATED:20220112T180606Z
LAST-MODIFIED:20220112T180606Z
UID:5817-1653643800-1653652800@www.labgarrettgenealogy.com
SUMMARY:Certification Seminar
DESCRIPTION:With Angela Packer McGhie\, CG\, FUGA\, and Patti Lee Hobbs\, CG.\nIn this interactive forum\, current associates share various pathways to certification and how to begin.
URL:https://www.labgarrettgenealogy.com/event/certification-seminar/
CATEGORIES:conference,virtual conference
ATTACH;FMTTYPE=image/png:https://www.labgarrettgenealogy.com/wp-content/uploads/2022-NGS-Conference.png
ORGANIZER;CN="National Genealogical Society":MAILTO:ngs@ngsgenealogy.org
END:VEVENT
BEGIN:VEVENT
DTSTART;TZID=America/Los_Angeles:20220527T080000
DTEND;TZID=America/Los_Angeles:20220527T090000
DTSTAMP:20260422T152320
CREATED:20220112T180859Z
LAST-MODIFIED:20220112T180859Z
UID:5819-1653638400-1653642000@www.labgarrettgenealogy.com
SUMMARY:Narrative Genealogies\, Lineages\, and Pedigrees
DESCRIPTION:Genealogical narratives are written work products that document linkages between successive generations\, usually take one of three standard forms\, and meet the GPS.
URL:https://www.labgarrettgenealogy.com/event/narrative-genealogies-lineages-and-pedigrees/
CATEGORIES:conference,virtual conference
ATTACH;FMTTYPE=image/png:https://www.labgarrettgenealogy.com/wp-content/uploads/2022-NGS-Conference.png
ORGANIZER;CN="National Genealogical Society":MAILTO:ngs@ngsgenealogy.org
END:VEVENT
BEGIN:VEVENT
DTSTART;TZID=America/Los_Angeles:20220526T080000
DTEND;TZID=America/Los_Angeles:20220526T090000
DTSTAMP:20260422T152320
CREATED:20220112T175737Z
LAST-MODIFIED:20220112T175737Z
UID:5811-1653552000-1653555600@www.labgarrettgenealogy.com
SUMMARY:Assembling Research Results
DESCRIPTION:Nineteen standards in Genealogy Standards address the treatment of assembled research results in case studies and kinship determination projects.
URL:https://www.labgarrettgenealogy.com/event/assembling-research-results/
CATEGORIES:conference,virtual conference
ATTACH;FMTTYPE=image/png:https://www.labgarrettgenealogy.com/wp-content/uploads/2022-NGS-Conference.png
ORGANIZER;CN="National Genealogical Society":MAILTO:ngs@ngsgenealogy.org
END:VEVENT
BEGIN:VEVENT
DTSTART;TZID=America/Los_Angeles:20220525T100000
DTEND;TZID=America/Los_Angeles:20220525T110000
DTSTAMP:20260422T152320
CREATED:20220112T180247Z
LAST-MODIFIED:20220112T180624Z
UID:5814-1653472800-1653476400@www.labgarrettgenealogy.com
SUMMARY:Why Standards are for Everyone
DESCRIPTION:Standards are imperative for anyone who cares about achieving accurate research\, whether for their own family or someone else’s family.
URL:https://www.labgarrettgenealogy.com/event/why-standards-are-for-everyon/
CATEGORIES:conference,virtual conference
ATTACH;FMTTYPE=image/png:https://www.labgarrettgenealogy.com/wp-content/uploads/2022-NGS-Conference.png
ORGANIZER;CN="National Genealogical Society":MAILTO:ngs@ngsgenealogy.org
END:VEVENT
BEGIN:VEVENT
DTSTART;TZID=America/New_York:20220212T130000
DTEND;TZID=America/New_York:20220212T134500
DTSTAMP:20260422T152320
CREATED:20220112T174152Z
LAST-MODIFIED:20220112T174737Z
UID:5807-1644670800-1644673500@www.labgarrettgenealogy.com
SUMMARY:Sharing What You Know
DESCRIPTION:Panel discussion with Melvin J. Collier and Leslie Anderson.
URL:https://www.labgarrettgenealogy.com/event/sharing-what-you-know/
CATEGORIES:virtual conference,Zoom meeting
ATTACH;FMTTYPE=image/png:https://www.labgarrettgenealogy.com/wp-content/uploads/Ourstories.png
END:VEVENT
BEGIN:VEVENT
DTSTART;TZID=America/New_York:20211013T130000
DTEND;TZID=America/New_York:20211016T170000
DTSTAMP:20260422T152320
CREATED:20211010T155743Z
LAST-MODIFIED:20211010T161344Z
UID:5771-1634130000-1634403600@www.labgarrettgenealogy.com
SUMMARY:AAHGS 2021 Annual Conference
DESCRIPTION:Oct 13\, 5:00pm EDT\nEthical Challenges in Afro-American Genealogical Research\n\n \n\nOct 14\, 1:30pm EDT\nMeeting Genealogy Standards When Using DNA to Identify Enslaved Ancestors\nOct 15\, 9:15am EDT\nUsing Probate Records to Document Enslaved Ancestors
URL:https://www.labgarrettgenealogy.com/event/aahgs-2021-annual-conference/
LOCATION:Afro-American Historical and Genealogical Society
CATEGORIES:virtual conference
ATTACH;FMTTYPE=image/png:https://www.labgarrettgenealogy.com/wp-content/uploads/aahgs2021.png
END:VEVENT
BEGIN:VEVENT
DTSTART;TZID=America/New_York:20210417T090000
DTEND;TZID=America/New_York:20210417T101500
DTSTAMP:20260422T152321
CREATED:20210403T134423Z
LAST-MODIFIED:20210403T134423Z
UID:5667-1618650000-1618654500@www.labgarrettgenealogy.com
SUMMARY:DNA Corroborates Oral History & Supports Documentary Evidence
DESCRIPTION:This lecture is based on a case study that utilized autosomal and  Y-DNA to bolster extensive research that pointed to the identity of an enslaved ancestor’s parents. This DNA study illustrates how DNA can be particularly useful in reconstructing genealogies in communities that left few records and little direct evidence.
URL:https://www.labgarrettgenealogy.com/event/dna-corroborates-oral-history-supports-documentary-evidence/
LOCATION:Minnesota Genealogical Society Spring Conference
CATEGORIES:virtual conference
ATTACH;FMTTYPE=image/jpeg:https://www.labgarrettgenealogy.com/wp-content/uploads/Image-4-1-21-at-2.19-PM.jpg
END:VEVENT
BEGIN:VEVENT
DTSTART;TZID=America/New_York:20210319T105500
DTEND;TZID=America/New_York:20210320T163000
DTSTAMP:20260422T152321
CREATED:20210114T134025Z
LAST-MODIFIED:20210310T154202Z
UID:5639-1616151300-1616257800@www.labgarrettgenealogy.com
SUMMARY:North Carolina Genealogical Society Virtual Conference
DESCRIPTION:Probate Records to Research Enslaved Ancestors \nThis presentation provides an overview of the probate process\, identifies the genealogical information that can be found in a slaveholding estate\, and points to related records that may be included in a probate proceeding. \nFriday\, March 19\, 2:00-3:00pm
URL:https://www.labgarrettgenealogy.com/event/north-carolina-genealogical-society-virtual-conference/
LOCATION:North Carolina Genealogical Society
CATEGORIES:virtual conference
ATTACH;FMTTYPE=image/png:https://www.labgarrettgenealogy.com/wp-content/uploads/ncconf.png
END:VEVENT
END:VCALENDAR