BEGIN:VCALENDAR
VERSION:2.0
PRODID:-//LaBGarrett Genealogy - ECPv6.15.20//NONSGML v1.0//EN
CALSCALE:GREGORIAN
METHOD:PUBLISH
X-WR-CALNAME:LaBGarrett Genealogy
X-ORIGINAL-URL:https://www.labgarrettgenealogy.com
X-WR-CALDESC:Events for LaBGarrett Genealogy
REFRESH-INTERVAL;VALUE=DURATION:PT1H
X-Robots-Tag:noindex
X-PUBLISHED-TTL:PT1H
BEGIN:VTIMEZONE
TZID:America/New_York
BEGIN:DAYLIGHT
TZOFFSETFROM:-0500
TZOFFSETTO:-0400
TZNAME:EDT
DTSTART:20220313T070000
END:DAYLIGHT
BEGIN:STANDARD
TZOFFSETFROM:-0400
TZOFFSETTO:-0500
TZNAME:EST
DTSTART:20221106T060000
END:STANDARD
BEGIN:DAYLIGHT
TZOFFSETFROM:-0500
TZOFFSETTO:-0400
TZNAME:EDT
DTSTART:20230312T070000
END:DAYLIGHT
BEGIN:STANDARD
TZOFFSETFROM:-0400
TZOFFSETTO:-0500
TZNAME:EST
DTSTART:20231105T060000
END:STANDARD
BEGIN:DAYLIGHT
TZOFFSETFROM:-0500
TZOFFSETTO:-0400
TZNAME:EDT
DTSTART:20240310T070000
END:DAYLIGHT
BEGIN:STANDARD
TZOFFSETFROM:-0400
TZOFFSETTO:-0500
TZNAME:EST
DTSTART:20241103T060000
END:STANDARD
BEGIN:DAYLIGHT
TZOFFSETFROM:-0500
TZOFFSETTO:-0400
TZNAME:EDT
DTSTART:20250309T070000
END:DAYLIGHT
BEGIN:STANDARD
TZOFFSETFROM:-0400
TZOFFSETTO:-0500
TZNAME:EST
DTSTART:20251102T060000
END:STANDARD
BEGIN:DAYLIGHT
TZOFFSETFROM:-0500
TZOFFSETTO:-0400
TZNAME:EDT
DTSTART:20260308T070000
END:DAYLIGHT
BEGIN:STANDARD
TZOFFSETFROM:-0400
TZOFFSETTO:-0500
TZNAME:EST
DTSTART:20261101T060000
END:STANDARD
END:VTIMEZONE
BEGIN:VTIMEZONE
TZID:America/Denver
BEGIN:DAYLIGHT
TZOFFSETFROM:-0700
TZOFFSETTO:-0600
TZNAME:MDT
DTSTART:20230312T090000
END:DAYLIGHT
BEGIN:STANDARD
TZOFFSETFROM:-0600
TZOFFSETTO:-0700
TZNAME:MST
DTSTART:20231105T080000
END:STANDARD
BEGIN:DAYLIGHT
TZOFFSETFROM:-0700
TZOFFSETTO:-0600
TZNAME:MDT
DTSTART:20240310T090000
END:DAYLIGHT
BEGIN:STANDARD
TZOFFSETFROM:-0600
TZOFFSETTO:-0700
TZNAME:MST
DTSTART:20241103T080000
END:STANDARD
BEGIN:DAYLIGHT
TZOFFSETFROM:-0700
TZOFFSETTO:-0600
TZNAME:MDT
DTSTART:20250309T090000
END:DAYLIGHT
BEGIN:STANDARD
TZOFFSETFROM:-0600
TZOFFSETTO:-0700
TZNAME:MST
DTSTART:20251102T080000
END:STANDARD
BEGIN:DAYLIGHT
TZOFFSETFROM:-0700
TZOFFSETTO:-0600
TZNAME:MDT
DTSTART:20260308T090000
END:DAYLIGHT
BEGIN:STANDARD
TZOFFSETFROM:-0600
TZOFFSETTO:-0700
TZNAME:MST
DTSTART:20261101T080000
END:STANDARD
END:VTIMEZONE
BEGIN:VTIMEZONE
TZID:America/Chicago
BEGIN:DAYLIGHT
TZOFFSETFROM:-0600
TZOFFSETTO:-0500
TZNAME:CDT
DTSTART:20230312T080000
END:DAYLIGHT
BEGIN:STANDARD
TZOFFSETFROM:-0500
TZOFFSETTO:-0600
TZNAME:CST
DTSTART:20231105T070000
END:STANDARD
BEGIN:DAYLIGHT
TZOFFSETFROM:-0600
TZOFFSETTO:-0500
TZNAME:CDT
DTSTART:20240310T080000
END:DAYLIGHT
BEGIN:STANDARD
TZOFFSETFROM:-0500
TZOFFSETTO:-0600
TZNAME:CST
DTSTART:20241103T070000
END:STANDARD
BEGIN:DAYLIGHT
TZOFFSETFROM:-0600
TZOFFSETTO:-0500
TZNAME:CDT
DTSTART:20250309T080000
END:DAYLIGHT
BEGIN:STANDARD
TZOFFSETFROM:-0500
TZOFFSETTO:-0600
TZNAME:CST
DTSTART:20251102T070000
END:STANDARD
BEGIN:DAYLIGHT
TZOFFSETFROM:-0600
TZOFFSETTO:-0500
TZNAME:CDT
DTSTART:20260308T080000
END:DAYLIGHT
BEGIN:STANDARD
TZOFFSETFROM:-0500
TZOFFSETTO:-0600
TZNAME:CST
DTSTART:20261101T070000
END:STANDARD
END:VTIMEZONE
BEGIN:VEVENT
DTSTART;TZID=America/New_York:20250728T171500
DTEND;TZID=America/New_York:20250728T183000
DTSTAMP:20260422T153457
CREATED:20241229T183134Z
LAST-MODIFIED:20241229T183401Z
UID:6314-1753722900-1753727400@www.labgarrettgenealogy.com
SUMMARY:Citation: Understanding the Material\, Knowing Where to Find It
DESCRIPTION:
URL:https://www.labgarrettgenealogy.com/event/citation-understanding-the-material-knowing-where-to-find-it-2/
LOCATION:Institute of Genealogy and Historical Research
CATEGORIES:institute
ATTACH;FMTTYPE=image/jpeg:https://www.labgarrettgenealogy.com/wp-content/uploads/IGHR2019.2-e1676123794201.jpg
END:VEVENT
BEGIN:VEVENT
DTSTART;TZID=America/New_York:20250624T120000
DTEND;TZID=America/New_York:20250624T130000
DTSTAMP:20260422T153457
CREATED:20250608T163826Z
LAST-MODIFIED:20250608T163826Z
UID:6390-1750766400-1750770000@www.labgarrettgenealogy.com
SUMMARY:Preserving Your New York Story
DESCRIPTION:Join us as we celebrate a successful first chapter in the “Preserving Your New York Story” series with an in person live-streamed panel discussion! Our genealogists in the series represent expertise in a variety of cultural and geographical areas. Find out more about their professional journeys\, what makes research in their fields specific and unique\, and take this opportunity to ask the experts your family history questions in real time. Featuring panelists Reem Awad-Rashmawi\, Lara Diamond\, LaBrenda Garrett-Nelson\, and Elizabeth Murray Vargas. Moderated by NYG&B President\, D. Joshua Taylor.
URL:https://www.labgarrettgenealogy.com/event/preserving-your-new-york-story/
LOCATION:New York Genealogical and Biographical Society\, 36 West 44th Street\, Suite 711\, New York\, NY\, 10036-8105\, United States
CATEGORIES:in person,Zoom meeting
ATTACH;FMTTYPE=image/png:https://www.labgarrettgenealogy.com/wp-content/uploads/logo-small-1.png
END:VEVENT
BEGIN:VEVENT
DTSTART;TZID=America/New_York:20250619T200000
DTEND;TZID=America/New_York:20250619T210000
DTSTAMP:20260422T153457
CREATED:20250428T135129Z
LAST-MODIFIED:20250428T135129Z
UID:6349-1750363200-1750366800@www.labgarrettgenealogy.com
SUMMARY:An Enslaved Person’s FAN Club
DESCRIPTION:Researching family\, associates\, and neighbors (the “FAN Club”) is particularly useful for proving the identity or parentage of formerly enslaved people because researchers are less likely to find direct evidence of identity or relationships in antebellum records. This webinar will present a proof argument based largely on indirect evidence provided by a FAN Club to identify an enslaved ancestral couple.
URL:https://www.labgarrettgenealogy.com/event/an-enslaved-persons-fan-club-2/
LOCATION:Online
CATEGORIES:webinar
ATTACH;FMTTYPE=image/png:https://www.labgarrettgenealogy.com/wp-content/uploads/FSGS.png
END:VEVENT
BEGIN:VEVENT
DTSTART;TZID=America/New_York:20250525T110000
DTEND;TZID=America/New_York:20250525T120000
DTSTAMP:20260422T153457
CREATED:20250427T185857Z
LAST-MODIFIED:20250427T190442Z
UID:6345-1748170800-1748174400@www.labgarrettgenealogy.com
SUMMARY:Using Tax Records to Address Genealogical Issues
DESCRIPTION:This session will survey evidence that can be gleaned from pre-20th century tax records to address a myriad of genealogical questions.
URL:https://www.labgarrettgenealogy.com/event/using-tax-records-to-address-genealogical-issues/
LOCATION:NGS Family History Conference
CATEGORIES:conference
ATTACH;FMTTYPE=image/png:https://www.labgarrettgenealogy.com/wp-content/uploads/2025-NGS-Conference.png
ORGANIZER;CN="National Genealogical Society":MAILTO:ngs@ngsgenealogy.org
END:VEVENT
BEGIN:VEVENT
DTSTART;TZID=America/New_York:20250521T120000
DTEND;TZID=America/New_York:20250521T124500
DTSTAMP:20260422T153457
CREATED:20250504T201647Z
LAST-MODIFIED:20250504T202216Z
UID:6361-1747828800-1747831500@www.labgarrettgenealogy.com
SUMMARY:Preserving Your New York Story: Unique Aspects of Researching Enslaved People in New York State
DESCRIPTION:Presented By LaBrenda Garrett-Nelson and the NYG&B Team\n\nFamily history is a fascinating and personal way for everyone to better understand who they are and how our past has shaped us. Genealogy also helps to reveal and strengthen connections between individuals and communities. But how do you get started? \nJoin the NYG&B and guest speaker LaBrenda Garrett-Nelson for a look at the key essentials for beginning your genealogy journey; resources and tips specific to researching enslaved people in New York State history; and how you can preserve your own New York family stories. \n\nParticipants can join us in person at the NYG&B New York City office or virtually. This is a free program\, but registration is required.
URL:https://www.labgarrettgenealogy.com/event/preserving-your-new-york-story-unique-aspects-of-researching-enslaved-people-in-new-york-state/
LOCATION:New York Genealogical and Biographical Society\, 36 West 44th Street\, Suite 711\, New York\, NY\, 10036-8105\, United States
CATEGORIES:in person,webinar
ATTACH;FMTTYPE=image/png:https://www.labgarrettgenealogy.com/wp-content/uploads/logo-small-1.png
END:VEVENT
BEGIN:VEVENT
DTSTART;TZID=America/Denver:20250306T080000
DTEND;TZID=America/Denver:20250308T170000
DTSTAMP:20260422T153457
CREATED:20241229T182630Z
LAST-MODIFIED:20241229T183820Z
UID:6312-1741248000-1741453200@www.labgarrettgenealogy.com
SUMMARY:Using Indirect Evidence to Identify Enslaved Parents
DESCRIPTION:Genealogy standards have universal application and this session is based on a ase study that illustrates how these standards can be met in where there is a dearth of direct evidence.  \nThis is a virtual event.
URL:https://www.labgarrettgenealogy.com/event/using-indirect-evidence-to-identify-enslaved-parents/
LOCATION:Rootstech
CATEGORIES:virtual conference
ATTACH;FMTTYPE=image/jpeg:https://www.labgarrettgenealogy.com/wp-content/uploads/rootstech.jpg
END:VEVENT
BEGIN:VEVENT
DTSTART;TZID=America/Denver:20250306T080000
DTEND;TZID=America/Denver:20250308T170000
DTSTAMP:20260422T153457
CREATED:20241229T182322Z
LAST-MODIFIED:20241229T182322Z
UID:6310-1741248000-1741453200@www.labgarrettgenealogy.com
SUMMARY:The Importance of Developing Research Plans
DESCRIPTION:Planning researches is an essential step in the process of meeting the first component of the Genealogical Proof Standard: “reasonably exhaustive research.” This session will hep attendees to identify logical sources and efficiently prioritize research steps. \nThose coming to this session would benefit from understanding the elements of the Genealogical Proof Standard as well as bringing a laptop to the session.  \nThis is a virtual presentation.
URL:https://www.labgarrettgenealogy.com/event/the-importance-of-developing-research-plans/
LOCATION:Rootstech
CATEGORIES:virtual conference
ATTACH;FMTTYPE=image/jpeg:https://www.labgarrettgenealogy.com/wp-content/uploads/rootstech.jpg
END:VEVENT
BEGIN:VEVENT
DTSTART;TZID=America/New_York:20250223T140000
DTEND;TZID=America/New_York:20250223T153000
DTSTAMP:20260422T153457
CREATED:20250129T143115Z
LAST-MODIFIED:20250129T145450Z
UID:6332-1740319200-1740324600@www.labgarrettgenealogy.com
SUMMARY:AAHGS Journal Author's Forum
DESCRIPTION:LaBrenda will discuss the historical and sociological context of the killing of a teenaged ancestor in 1919.
URL:https://www.labgarrettgenealogy.com/event/aahgs-journal-authors-forum/
LOCATION:Shepherd Park Neighborhood Library\, 7420 Georgia Ave. NW\, Washington\, DC\, 20012
CATEGORIES:Forum
ATTACH;FMTTYPE=image/jpeg:https://www.labgarrettgenealogy.com/wp-content/uploads/aahgs_logo.jpg
END:VEVENT
BEGIN:VEVENT
DTSTART;TZID=America/Chicago:20250220T190000
DTEND;TZID=America/Chicago:20250220T200000
DTSTAMP:20260422T153457
CREATED:20241229T175314Z
LAST-MODIFIED:20241229T175742Z
UID:6306-1740078000-1740081600@www.labgarrettgenealogy.com
SUMMARY:African American Genealogy
DESCRIPTION:Join genealogist LaBrenda Garrett-Nelson for an insightful presentation on the unique approaches and strategies for researching African American ancestry. This lecture will explore key historical and legal developments that have generated valuable genealogical records\, particularly for individuals of African descent with roots in the antebellum period. You’ll also receive methodological insights and research tips that will provide a solid foundation for tackling your research in any of the former slave states. *Registration required. This is a virtual event.
URL:https://www.labgarrettgenealogy.com/event/african-american-genealogy/
CATEGORIES:webinar
ATTACH;FMTTYPE=image/jpeg:https://www.labgarrettgenealogy.com/wp-content/uploads/2024-12-29_12-53-32.jpg
ORGANIZER;CN="Naperville Public Library":MAILTO:mvickery@naperville-lib.org
END:VEVENT
BEGIN:VEVENT
DTSTART;VALUE=DATE:20250127
DTEND;VALUE=DATE:20250201
DTSTAMP:20260422T153457
CREATED:20240708T131551Z
LAST-MODIFIED:20240708T131748Z
UID:6216-1737936000-1738367999@www.labgarrettgenealogy.com
SUMMARY:African American Genealogy Methods and Strategies
DESCRIPTION:This is a virtual event
URL:https://www.labgarrettgenealogy.com/event/african-american-genealogy-methods-and-strategies-3/
LOCATION:Salt Lake Institute of Genealogy
CATEGORIES:institute
ATTACH;FMTTYPE=image/png:https://www.labgarrettgenealogy.com/wp-content/uploads/Course-5_-African-American-Genealogy-Methods-and-Strategies.png
ORGANIZER;CN="Utah Genealogical Association":MAILTO:info@ugagenealogy.org
END:VEVENT
BEGIN:VEVENT
DTSTART;TZID=America/Denver:20241021T124500
DTEND;TZID=America/Denver:20241021T170000
DTSTAMP:20260422T153457
CREATED:20240924T182220Z
LAST-MODIFIED:20240924T182220Z
UID:6300-1729514700-1729530000@www.labgarrettgenealogy.com
SUMMARY:The Workshop
DESCRIPTION:In Course 2: Memorializing Family History—From Intimidation to Empowerment\nWith Karen Stanbury\, Angela McGhie\, Nicole LaRue\, and John Colletta\nVolunteers (selected by lottery as time permits) seek class feedback. The student may read his or her piece to the class or select a friend to read it on his or her behalf. The class will offer a broad reaction to the peer’s written piece emphasizing the strengths and emotional impact. The class discusses the piece while the writer listens and takes notes. The writer may ask questions of the readers at the conclusion of the discussion. The class will assist the writer to restructure the piece and tighten the writing.
URL:https://www.labgarrettgenealogy.com/event/the-workshop/
LOCATION:Salt Lake Institute of Genealogy
CATEGORIES:virtual workshop
ATTACH;FMTTYPE=image/jpeg:https://www.labgarrettgenealogy.com/wp-content/uploads/SLIG_fall_2024.jpg
ORGANIZER;CN="Salt Lake Institute of Genealogy":MAILTO:registrar@slig.ugagenealogy.org
END:VEVENT
BEGIN:VEVENT
DTSTART;TZID=America/Denver:20241007T094500
DTEND;TZID=America/Denver:20241007T114500
DTSTAMP:20260422T153457
CREATED:20240924T181458Z
LAST-MODIFIED:20240924T182504Z
UID:6298-1728294300-1728301500@www.labgarrettgenealogy.com
SUMMARY:The Polished Product: Documentation and Historical Context
DESCRIPTION:In Course 2: Memorializing Family History—From Intimidation to Empowerment\nWith Angela McGhie\, Kaelyn Deeter\, and Nicole LaRue\nFaculty share each of their final pieces that include documentation and historical context. They will emphasize the decisions\, reasoning and strategies that fuel the writing choices.
URL:https://www.labgarrettgenealogy.com/event/the-polished-product-documentation-and-historical-context/
LOCATION:Salt Lake Institute of Genealogy
CATEGORIES:virtual workshop
ATTACH;FMTTYPE=image/jpeg:https://www.labgarrettgenealogy.com/wp-content/uploads/SLIG_fall_2024.jpg
ORGANIZER;CN="Salt Lake Institute of Genealogy":MAILTO:registrar@slig.ugagenealogy.org
END:VEVENT
BEGIN:VEVENT
DTSTART;TZID=America/Denver:20240930T153000
DTEND;TZID=America/Denver:20240930T164500
DTSTAMP:20260422T153457
CREATED:20240924T181100Z
LAST-MODIFIED:20240924T182523Z
UID:6296-1727710200-1727714700@www.labgarrettgenealogy.com
SUMMARY:Emotional Impact: Student Show and Tell
DESCRIPTION:In Course 2: Memorializing Family History—From Intimidation to Empowerment\nWith Angela McGhie\, Kaelyn Deeter\, and Nicole LaRue\nStudents break into small groups of five to “show and tell” the chosen topic. Peers provide feedback.
URL:https://www.labgarrettgenealogy.com/event/emotional-impact-student-show-and-tell/
LOCATION:Salt Lake Institute of Genealogy
CATEGORIES:virtual workshop
ATTACH;FMTTYPE=image/jpeg:https://www.labgarrettgenealogy.com/wp-content/uploads/SLIG_fall_2024.jpg
ORGANIZER;CN="Salt Lake Institute of Genealogy":MAILTO:registrar@slig.ugagenealogy.org
END:VEVENT
BEGIN:VEVENT
DTSTART;TZID=America/Denver:20240930T101500
DTEND;TZID=America/Denver:20240930T121500
DTSTAMP:20260422T153457
CREATED:20240924T180335Z
LAST-MODIFIED:20240924T182542Z
UID:6293-1727691300-1727698500@www.labgarrettgenealogy.com
SUMMARY:The Rough Draft: Faculty Show and Tell
DESCRIPTION:In Course 2: Memorializing Family History—From Intimidation to Empowerment\nWith Angela McGhie\, Kaelyn Deeter\, and Nicole LaRue\nFaculty each walk students through the beginning phases of their selected projects. The project typically begins with family lore or provenance details of a treasured heirloom.
URL:https://www.labgarrettgenealogy.com/event/the-rough-draft-faculty-show-and-tell/
LOCATION:Salt Lake Institute of Genealogy
CATEGORIES:virtual workshop
ATTACH;FMTTYPE=image/jpeg:https://www.labgarrettgenealogy.com/wp-content/uploads/SLIG_fall_2024.jpg
ORGANIZER;CN="Salt Lake Institute of Genealogy":MAILTO:registrar@slig.ugagenealogy.org
END:VEVENT
BEGIN:VEVENT
DTSTART;TZID=America/New_York:20240917T200000
DTEND;TZID=America/New_York:20240917T213000
DTSTAMP:20260422T153457
CREATED:20240114T184613Z
LAST-MODIFIED:20240114T184613Z
UID:6129-1726603200-1726608600@www.labgarrettgenealogy.com
SUMMARY:A Myriad of Slavery Databases
DESCRIPTION:
URL:https://www.labgarrettgenealogy.com/event/a-myriad-of-slavery-databases/
LOCATION:Legacy Family Tree Webinars
CATEGORIES:webinar
ATTACH;FMTTYPE=image/jpeg:https://www.labgarrettgenealogy.com/wp-content/uploads/2024-01-14_13-45-22.jpg
END:VEVENT
BEGIN:VEVENT
DTSTART;TZID=America/New_York:20240816T104500
DTEND;TZID=America/New_York:20240816T114500
DTSTAMP:20260422T153457
CREATED:20240401T205219Z
LAST-MODIFIED:20240401T205322Z
UID:6156-1723805100-1723808700@www.labgarrettgenealogy.com
SUMMARY:BCG Board Certification: Q&A
DESCRIPTION:The Genealogical Institute on Federal Records (Gen-Fed) will take place Sunday\, August 11th through Saturday\, August 17th\, 2024.
URL:https://www.labgarrettgenealogy.com/event/bcg-board-certification-qa/
LOCATION:National Archives
CATEGORIES:institute
ATTACH;FMTTYPE=image/jpeg:https://www.labgarrettgenealogy.com/wp-content/uploads/gen-fed-e1712003762998.jpg
END:VEVENT
BEGIN:VEVENT
DTSTART;TZID=America/New_York:20240816T091500
DTEND;TZID=America/New_York:20240816T103000
DTSTAMP:20260422T153457
CREATED:20240401T204838Z
LAST-MODIFIED:20240401T205402Z
UID:6152-1723799700-1723804200@www.labgarrettgenealogy.com
SUMMARY:Researching Enslaved African Americans In Federal Records
DESCRIPTION:The Genealogical Institute on Federal Records (Gen-Fed) will take place Sunday\, August 11th through Saturday\, August 17th\, 2024.
URL:https://www.labgarrettgenealogy.com/event/researcging-enslaaved-african-americans-in-federal-records/
LOCATION:National Archives
CATEGORIES:institute
ATTACH;FMTTYPE=image/jpeg:https://www.labgarrettgenealogy.com/wp-content/uploads/gen-fed-e1712003762998.jpg
END:VEVENT
BEGIN:VEVENT
DTSTART;TZID=America/New_York:20240814T131500
DTEND;TZID=America/New_York:20240814T143000
DTSTAMP:20260422T153457
CREATED:20240401T203039Z
LAST-MODIFIED:20240401T203914Z
UID:6146-1723641300-1723645800@www.labgarrettgenealogy.com
SUMMARY:Immigration & Naturalization: Beyond the Basics
DESCRIPTION:The Genealogical Institute on Federal Records (Gen-Fed) will take place Sunday\, August 11th through Saturday\, August 17th\, 2024.
URL:https://www.labgarrettgenealogy.com/event/immigration-naturalization-beyond-the-basics/
LOCATION:National Archives
CATEGORIES:institute
ATTACH;FMTTYPE=image/jpeg:https://www.labgarrettgenealogy.com/wp-content/uploads/gen-fed-e1712003762998.jpg
END:VEVENT
BEGIN:VEVENT
DTSTART;TZID=America/New_York:20240725T124500
DTEND;TZID=America/New_York:20240725T140000
DTSTAMP:20260422T153457
CREATED:20240114T183204Z
LAST-MODIFIED:20240114T183204Z
UID:6122-1721911500-1721916000@www.labgarrettgenealogy.com
SUMMARY:Federal Records of Freedmen of the Five Civilized Tribes
DESCRIPTION:IGHR runs 21-26 July 2024.\nThis presentation will be for the course: Researching African American Ancestors: Government Records and Beyond.
URL:https://www.labgarrettgenealogy.com/event/federal-records-of-freedmen-of-the-five-civilized-tribes/
LOCATION:Institute of Genealogy and Historical Research
CATEGORIES:institute
ATTACH;FMTTYPE=image/jpeg:https://www.labgarrettgenealogy.com/wp-content/uploads/IGHR2019.2-e1676123794201.jpg
END:VEVENT
BEGIN:VEVENT
DTSTART;TZID=America/New_York:20240723T110000
DTEND;TZID=America/New_York:20240723T121500
DTSTAMP:20260422T153457
CREATED:20240708T125950Z
LAST-MODIFIED:20240708T125950Z
UID:6126-1721732400-1721736900@www.labgarrettgenealogy.com
SUMMARY:Beef Up Your Analysis: Transcribing and Abstracting
DESCRIPTION:This presentation in for Course 3: Advanced Methodology and Evidence Analysis.
URL:https://www.labgarrettgenealogy.com/event/beef-up-your-analysis-transcribing-and-abstracting-2/
LOCATION:Institute of Genealogy and Historical Research
CATEGORIES:institute
ATTACH;FMTTYPE=image/jpeg:https://www.labgarrettgenealogy.com/wp-content/uploads/IGHR2019.2-e1676123794201.jpg
END:VEVENT
BEGIN:VEVENT
DTSTART;TZID=America/New_York:20240722T171500
DTEND;TZID=America/New_York:20240722T183000
DTSTAMP:20260422T153457
CREATED:20240708T125735Z
LAST-MODIFIED:20240708T130136Z
UID:6124-1721668500-1721673000@www.labgarrettgenealogy.com
SUMMARY:Citation: Understanding the Material\, Knowing Where to Find It
DESCRIPTION:This presentation in for Course 3: Advanced Methodology and Evidence Analysis.
URL:https://www.labgarrettgenealogy.com/event/citation-understanding-the-material-knowing-where-to-find-it/
LOCATION:Institute of Genealogy and Historical Research
CATEGORIES:institute
ATTACH;FMTTYPE=image/jpeg:https://www.labgarrettgenealogy.com/wp-content/uploads/IGHR2019.2-e1676123794201.jpg
END:VEVENT
BEGIN:VEVENT
DTSTART;TZID=America/New_York:20240722T124500
DTEND;TZID=America/New_York:20240722T140000
DTSTAMP:20260422T153457
CREATED:20240114T182635Z
LAST-MODIFIED:20240114T183254Z
UID:6117-1721652300-1721656800@www.labgarrettgenealogy.com
SUMMARY:Law of Slavery
DESCRIPTION:IGHR runs 21-26 July 2024.\nThis presentation will be for the course: Researching African American Ancestors: Government Records and Beyond.
URL:https://www.labgarrettgenealogy.com/event/law-of-slavery/
LOCATION:Institute of Genealogy and Historical Research
CATEGORIES:institute
ATTACH;FMTTYPE=image/jpeg:https://www.labgarrettgenealogy.com/wp-content/uploads/IGHR2019.2-e1676123794201.jpg
END:VEVENT
BEGIN:VEVENT
DTSTART;TZID=America/New_York:20240518T143000
DTEND;TZID=America/New_York:20240518T153000
DTSTAMP:20260422T153457
CREATED:20240114T181901Z
LAST-MODIFIED:20240126T145712Z
UID:6115-1716042600-1716046200@www.labgarrettgenealogy.com
SUMMARY:Researching African Americans in Equity Court Files
DESCRIPTION:Session S202
URL:https://www.labgarrettgenealogy.com/event/researching-african-americans-in-equity-court-files/
LOCATION:National Genealogical Society
CATEGORIES:virtual conference
ATTACH;FMTTYPE=image/jpeg:https://www.labgarrettgenealogy.com/wp-content/uploads/EXPANDING-and-FOCUS-full-image-2560-×-722-px-1140-x-335-px.jpg
ORGANIZER;CN="National Genealogical Society":MAILTO:ngs@ngsgenealogy.org
END:VEVENT
BEGIN:VEVENT
DTSTART;TZID=America/New_York:20240517T171500
DTEND;TZID=America/New_York:20240517T181500
DTSTAMP:20260422T153457
CREATED:20240114T181608Z
LAST-MODIFIED:20240126T145606Z
UID:6112-1715966100-1715969700@www.labgarrettgenealogy.com
SUMMARY:BCG Skillbuilding: Using Social and Historical Context to Support Indirect Evidence
DESCRIPTION:Session F401
URL:https://www.labgarrettgenealogy.com/event/bcg-skillbuilding-using-social-and-historical-context-to-support-indirect-evidence/
LOCATION:National Genealogical Society
CATEGORIES:virtual conference
ATTACH;FMTTYPE=image/jpeg:https://www.labgarrettgenealogy.com/wp-content/uploads/EXPANDING-and-FOCUS-full-image-2560-×-722-px-1140-x-335-px.jpg
ORGANIZER;CN="National Genealogical Society":MAILTO:ngs@ngsgenealogy.org
END:VEVENT
BEGIN:VEVENT
DTSTART;TZID=America/New_York:20240504T110000
DTEND;TZID=America/New_York:20240504T120000
DTSTAMP:20260422T153457
CREATED:20240405T130337Z
LAST-MODIFIED:20240405T130810Z
UID:6171-1714820400-1714824000@www.labgarrettgenealogy.com
SUMMARY:African American Genealogy – Methods and Strategies
DESCRIPTION:Genealogy standards have universal application; however\, there are strategies that are particularly useful for researching African American ancestors with roots in the antebellum period who present unique challenges. This webinar will provide an overview of “best practices” for achieving credible results\, by providing a conceptual foundation for tackling genealogical issues in any of the historical slave states. \nMeeting is a hybrid meeting. LaBrenda Garrett-Nelson will be presenting via webinar in the Beech Conference Room in the Florida History and Genealogy Library at the John F. Germany Public Library. Alternately\, you can attend via Zoom webinar.
URL:https://www.labgarrettgenealogy.com/event/african-american-genealogy-methods-and-strategies-2/
LOCATION:John F. Germany Public Library\, 900 N. Ashley Dr.\, Tampa\, FL\, 33602
CATEGORIES:webinar,Zoom meeting
END:VEVENT
BEGIN:VEVENT
DTSTART;TZID=America/Chicago:20240420T100000
DTEND;TZID=America/Chicago:20240420T113000
DTSTAMP:20260422T153458
CREATED:20240114T180703Z
LAST-MODIFIED:20240114T180703Z
UID:6107-1713607200-1713612600@www.labgarrettgenealogy.com
SUMMARY:The Value of Transcribing Historical Records
DESCRIPTION:
URL:https://www.labgarrettgenealogy.com/event/the-value-of-transcribing-historical-records/
LOCATION:Genealogy Friends of Plano Libraries
CATEGORIES:webinar,Zoom meeting
END:VEVENT
BEGIN:VEVENT
DTSTART;TZID=America/Chicago:20240212T180000
DTEND;TZID=America/Chicago:20240212T190000
DTSTAMP:20260422T153458
CREATED:20240126T004217Z
LAST-MODIFIED:20240126T004932Z
UID:6134-1707760800-1707764400@www.labgarrettgenealogy.com
SUMMARY:African American Genealogy: Methodology and Strategies
DESCRIPTION:The lecture will illustrate both methodologies and strategies for meeting the Genealogical Proof Standard when researching families that survived American slavery. The focus on strategies will arm attendees with the tools needed to overcome the challenges of researching during the antebellum period.
URL:https://www.labgarrettgenealogy.com/event/african-american-genealogy-methodology-and-strategies/
LOCATION:Mid-Continent Pulic Library
CATEGORIES:webinar
ATTACH;FMTTYPE=image/jpeg:https://www.labgarrettgenealogy.com/wp-content/uploads/mcpl_logo.jpg
END:VEVENT
BEGIN:VEVENT
DTSTART;TZID=America/New_York:20231121T200000
DTEND;TZID=America/New_York:20231121T213000
DTSTAMP:20260422T153458
CREATED:20230110T141829Z
LAST-MODIFIED:20230110T141829Z
UID:5978-1700596800-1700602200@www.labgarrettgenealogy.com
SUMMARY:Why Standards are for Everyone
DESCRIPTION:Adherence to standards is imperative for anyone who endeavors to reach credible genealogical conclusions. The Board for Certification of Genealogists (BCG)publishes the field’s only comprehensive set of criteria(standards)for evaluating genealogical work products. Significantly\, application of the standards set forth in BCG’s publication is not limited to those who aspire to obtain the Certified Genealogist® credential—they are community wide standards used in producing family histories\, client reports \,blogs\, and other offerings.
URL:https://www.labgarrettgenealogy.com/event/why-standards-are-for-everyone/
LOCATION:Legacy Family Tree Webinars
CATEGORIES:webinar
END:VEVENT
BEGIN:VEVENT
DTSTART;TZID=America/New_York:20231014T151500
DTEND;TZID=America/New_York:20231014T163000
DTSTAMP:20260422T153458
CREATED:20230907T215152Z
LAST-MODIFIED:20230907T215152Z
UID:6089-1697296500-1697301000@www.labgarrettgenealogy.com
SUMMARY:Genealogical Implications of the Law and Slavery
DESCRIPTION:
URL:https://www.labgarrettgenealogy.com/event/genealogical-implications-of-the-law-and-slavery/
LOCATION:Courtyard by Marriott\, 1385 Courtyard Street\, Fort Mill\, SC\, 29715\, United States
CATEGORIES:conference
ATTACH;FMTTYPE=image/jpeg:https://www.labgarrettgenealogy.com/wp-content/uploads/gen_fam_hist_expo.jpg
END:VEVENT
BEGIN:VEVENT
DTSTART;TZID=America/New_York:20231014T134500
DTEND;TZID=America/New_York:20231014T150000
DTSTAMP:20260422T153458
CREATED:20230907T214817Z
LAST-MODIFIED:20230907T215216Z
UID:6084-1697291100-1697295600@www.labgarrettgenealogy.com
SUMMARY:Planning Genealogical Research
DESCRIPTION:
URL:https://www.labgarrettgenealogy.com/event/planning-genealogical-research-2/
LOCATION:Courtyard by Marriott\, 1385 Courtyard Street\, Fort Mill\, SC\, 29715\, United States
CATEGORIES:conference
ATTACH;FMTTYPE=image/jpeg:https://www.labgarrettgenealogy.com/wp-content/uploads/gen_fam_hist_expo.jpg
END:VEVENT
END:VCALENDAR